Workbook

Sheet 総括表（例）
A1: 定 期 点 検 総 括 表 | P1: 公園番号
P2: 1
A3: 公園名 | B3: ○○公園 | G3: 住 所 | J3: 西３条南４丁目２７－２
A4: 点検日 | B4: 46490 | G4: 判定基準 | J4: ◎ | K4: 異常なし | L4: ○ | M4: 随時補修 | N4: △ | O4: 至急補修 | P4: × | Q4: 使用禁止
A5: 番号 | B5: 施設（製品）名 | C5: 数量 | D5: 総合 | E5: 判 定 | H5: 安全領域確保 | J5: 特記事項 | S5: 区分 | U5: ○
E6: ハザード | F6: 劣化 | G6: 塗装 | H6: 済み | I6: 未処理 | U6: - | V6: ◎ | W6: ○ | X6: △ | Y6: ×
A7: 1 | B7: １連滑り台 | C7: 1 | D7: ◎ | E7: ○ | F7: ◎ | G7: ○ | H7: ○ | J7: 脚部の塗装がはがれている。 | S7: 遊戯 | U7: 園路・広場 | V7: {=SUM(IF(($D$7:$D$90=V$6)*($S$7:$S$90=$U7),$C$7:$C$90))} -> 0 | W7: {=SUM(IF(($D$7:$D$90=W$6)*($S$7:$S$90=$U7),$C$7:$C$90))} -> 0 | X7: {=SUM(IF(($D$7:$D$90=X$6)*($S$7:$S$90=$U7),$C$7:$C$90))} -> 0 | Y7: {=SUM(IF(($D$7:$D$90=Y$6)*($S$7:$S$90=$U7),$C$7:$C$90))} -> 0
B8: 鋼製 | J8: 滑り台降り口の下が掘れている。 | U8: 修景 | V8: {=SUM(IF(($D$7:$D$90=V$6)*($S$7:$S$90=$U8),$C$7:$C$90))} -> 0 | W8: {=SUM(IF(($D$7:$D$90=W$6)*($S$7:$S$90=$U8),$C$7:$C$90))} -> 1 | X8: {=SUM(IF(($D$7:$D$90=X$6)*($S$7:$S$90=$U8),$C$7:$C$90))} -> 0 | Y8: {=SUM(IF(($D$7:$D$90=Y$6)*($S$7:$S$90=$U8),$C$7:$C$90))} -> 0
A9: 2 | B9: ２連ブランコ | C9: 2 | D9: ○ | E9: ○ | F9: ○ | G9: ○ | H9: ○ | J9: 塗装が剥離している。ケレン塗装が必要。 | S9: 遊戯 | U9: 休憩 | V9: {=SUM(IF(($D$7:$D$90=V$6)*($S$7:$S$90=$U9),$C$7:$C$90))} -> 2 | W9: {=SUM(IF(($D$7:$D$90=W$6)*($S$7:$S$90=$U9),$C$7:$C$90))} -> 0 | X9: {=SUM(IF(($D$7:$D$90=X$6)*($S$7:$S$90=$U9),$C$7:$C$90))} -> 0 | Y9: {=SUM(IF(($D$7:$D$90=Y$6)*($S$7:$S$90=$U9),$C$7:$C$90))} -> 0
B10: 鋼製 | J10: 両方の下が掘れている。敷床板設置が望ましい。 | U10: 遊戯 | V10: {=SUM(IF(($D$7:$D$90=V$6)*($S$7:$S$90=$U10),$C$7:$C$90))} -> 3 | W10: {=SUM(IF(($D$7:$D$90=W$6)*($S$7:$S$90=$U10),$C$7:$C$90))} -> 5 | X10: {=SUM(IF(($D$7:$D$90=X$6)*($S$7:$S$90=$U10),$C$7:$C$90))} -> 1 | Y10: {=SUM(IF(($D$7:$D$90=Y$6)*($S$7:$S$90=$U10),$C$7:$C$90))} -> 0
A11: 3 | B11: ２連シーソー | C11: 2 | D11: ○ | E11: ◎ | F11: ◎ | G11: ○ | H11: ○ | S11: 遊戯 | U11: 運動 | V11: {=SUM(IF(($D$7:$D$90=V$6)*($S$7:$S$90=$U11),$C$7:$C$90))} -> 0 | W11: {=SUM(IF(($D$7:$D$90=W$6)*($S$7:$S$90=$U11),$C$7:$C$90))} -> 0 | X11: {=SUM(IF(($D$7:$D$90=X$6)*($S$7:$S$90=$U11),$C$7:$C$90))} -> 0 | Y11: {=SUM(IF(($D$7:$D$90=Y$6)*($S$7:$S$90=$U11),$C$7:$C$90))} -> 0
B12: 木製 | U12: 教養 | V12: {=SUM(IF(($D$7:$D$90=V$6)*($S$7:$S$90=$U12),$C$7:$C$90))} -> 0 | W12: {=SUM(IF(($D$7:$D$90=W$6)*($S$7:$S$90=$U12),$C$7:$C$90))} -> 0 | X12: {=SUM(IF(($D$7:$D$90=X$6)*($S$7:$S$90=$U12),$C$7:$C$90))} -> 0 | Y12: {=SUM(IF(($D$7:$D$90=Y$6)*($S$7:$S$90=$U12),$C$7:$C$90))} -> 0
A13: 4 | B13: ジャングルジム | C13: 1 | D13: ○ | E13: ○ | F13: ○ | G13: ○ | H13: ○ | J13: パイプが曲がっている | S13: 遊戯 | U13: 便益 | V13: {=SUM(IF(($D$7:$D$90=V$6)*($S$7:$S$90=$U13),$C$7:$C$90))} -> 1 | W13: {=SUM(IF(($D$7:$D$90=W$6)*($S$7:$S$90=$U13),$C$7:$C$90))} -> 0 | X13: {=SUM(IF(($D$7:$D$90=X$6)*($S$7:$S$90=$U13),$C$7:$C$90))} -> 0 | Y13: {=SUM(IF(($D$7:$D$90=Y$6)*($S$7:$S$90=$U13),$C$7:$C$90))} -> 0
B14: 鋼製 | J14: 塗装がはがれている | U14: 管理 | V14: =SUM(IF(($D$7:$D$90=V$6)*($S$7:$S$90=$U14),$C$7:$C$90)) -> 0 | W14: {=SUM(IF(($D$7:$D$90=W$6)*($S$7:$S$90=$U14),$C$7:$C$90))} -> 9 | X14: {=SUM(IF(($D$7:$D$90=X$6)*($S$7:$S$90=$U14),$C$7:$C$90))} -> 0 | Y14: {=SUM(IF(($D$7:$D$90=Y$6)*($S$7:$S$90=$U14),$C$7:$C$90))} -> 1
A15: 5 | B15: 背無ベンチ | D15: - | E15: - | F15: - | G15: - | H15: - | J15: 撤去済み。 | S15: 休憩 | U15: その他 | V15: {=SUM(IF(($D$7:$D$90=V$6)*($S$7:$S$90=$U15),$C$7:$C$90))} -> 0 | W15: {=SUM(IF(($D$7:$D$90=W$6)*($S$7:$S$90=$U15),$C$7:$C$90))} -> 0 | X15: {=SUM(IF(($D$7:$D$90=X$6)*($S$7:$S$90=$U15),$C$7:$C$90))} -> 0 | Y15: {=SUM(IF(($D$7:$D$90=Y$6)*($S$7:$S$90=$U15),$C$7:$C$90))} -> 0
B16: 木製(丸太) | S16: 休憩
A17: 6 | B17: 藤棚 | C17: 1 | D17: ○ | E17: - | F17: ○ | G17: ○ | H17: - | J17: 単管が錆びている。 | S17: 修景
B18: 鋼製
A19: 7 | B19: 水飲み台 | C19: 1 | D19: ○ | E19: - | F19: ○ | G19: ◎ | H19: - | J19: ヒビ割れている。 | S19: 管理
B20: コンクリート
A21: 8 | B21: 照明灯 | C21: 6 | D21: ○ | E21: - | F21: ○ | G21: ○ | H21: - | J21: サビ始めている。根際が腐食している。 | S21: 管理
B22: 鋼製 | J22: ケーブルが出ている
A23: 9 | B23: トイレ | C23: 1 | D23: ◎ | E23: - | F23: ○ | G23: ◎ | H23: - | J23: 屋根が著しく汚れている。 | S23: 便益
B24: 樹脂製
A25: 10 | B25: フェンス | C25: 1 | D25: × | E25: × | F25: × | G25: ○ | H25: - | J25: 住宅側に倒れている。 | S25: 管理
B26: 鋼製メッシュ | J26: メッシュ部が破損して危険。
A27: 11 | B27: 園名板 | C27: 2 | D27: ○ | E27: - | F27: ○ | G27: ○ | H27: - | J27: 文字部の剥離。ペンキ等で塗装が望ましい。 | S27: 管理
B28: 木製
A29: 12 | B29: 砂場 | C29: 1 | D29: △ | F29: △ | G29: ◎ | H29: - | J29: 縁石が劣化し剥離している。 | S29: 遊戯
A31: 13 | B31: ステージ | C31: 1 | D31: ◎ | E31: - | F31: ◎ | G31: ◎ | H31: - | J31: 塗装が剥がれ錆びている。 | S31: 遊戯
B32: 鋼製
A33: 14 | B33: ３連鉄棒 | C33: 1 | D33: ◎ | E33: ◎ | F33: ◎ | G33: ◎ | H33: ○ | J33: Ｈ２７年度新規設置 | S33: 遊戯
B34: 鋼製
A35: 15 | B35: 背付ベンチ | C35: 2 | D35: ◎ | F35: ○ | G35: ◎ | J35: Ｈ２７年度新規設置 | S35: 休憩
B36: 木製
A37: 16 | B37: その他 | J37: 枝が折れて落ちている。 | S37: その他
B38: 樹木
A39: 17
A41: 18
A43: 19
...

Sheet 点検表（例）
C1: 定 期 点 検 簿 | L1: =C1 -> 定 期 点 検 簿 | U1: =L1 -> 定 期 点 検 簿 | AD1: =U1 -> 定 期 点 検 簿 | AM1: =AD1 -> 定 期 点 検 簿 | AV1: =AM1 -> 定 期 点 検 簿 | BE1: =AV1 -> 定 期 点 検 簿
A2: 公園名 | C2: ='総括表（例）'!B3 -> ○○公園 | F2: 公園番号 | J2: 公園名 | L2: ='総括表（例）'!B3 -> ○○公園 | O2: 公園番号 | S2: 公園名 | U2: ='総括表（例）'!B3 -> ○○公園 | X2: 公園番号 | AB2: 公園名 | AD2: ='総括表（例）'!B3 -> ○○公園 | AG2: 公園番号 | AK2: 公園名 | AM2: ='総括表（例）'!B3 -> ○○公園 | AP2: 公園番号 | AT2: 公園名 | AV2: ='総括表（例）'!B3 -> ○○公園 | AY2: 公園番号 | BC2: 公園名 | BE2: ='総括表（例）'!B3 -> ○○公園 | BH2: 公園番号
A3: 施設名称 | C3: ='総括表（例）'!B7 -> １連滑り台 | F3: ='総括表（例）'!P2 -> 1 | J3: 施設名称 | L3: ='総括表（例）'!B9 -> ２連ブランコ | M3: A | O3: ='総括表（例）'!P2 -> 1 | S3: 施設名称 | U3: ='総括表（例）'!B9 -> ２連ブランコ | V3: B | X3: ='総括表（例）'!P2 -> 1 | AB3: 施設名称 | AD3: ='総括表（例）'!B11 -> ２連シーソー | AE3: A | AG3: ='総括表（例）'!P2 -> 1 | AK3: 施設名称 | AM3: ='総括表（例）'!B11 -> ２連シーソー | AN3: B | AP3: ='総括表（例）'!P2 -> 1 | AT3: 施設名称 | AV3: ='総括表（例）'!B13 -> ジャングルジム | AY3: ='総括表（例）'!P2 -> 1 | BC3: 施設名称 | BE3: ='総括表（例）'!B33 -> ３連鉄棒 | BH3: ='総括表（例）'!P2 -> 1
A4: 主材質 | C4: 金属 ・ 木質 ・ 樹脂 ・ 他 | F4: 番号 | J4: 主材質 | L4: 金属 ・ 木質 ・ 樹脂 ・ 他 | O4: 番号 | S4: 主材質 | U4: 金属 ・ 木質 ・ 樹脂 ・ 他 | X4: 番号 | AB4: 主材質 | AD4: 金属 ・ 木質 ・ 樹脂 ・ 他 | AG4: 番号 | AK4: 主材質 | AM4: 金属 ・ 木質 ・ 樹脂 ・ 他 | AP4: 番号 | AT4: 主材質 | AV4: 金属 ・ 木質 ・ 樹脂 ・ 他 | AY4: 番号 | BC4: 主材質 | BE4: 金属 ・ 木質 ・ 樹脂 ・ 他 | BH4: 番号
A5: 点検日 | C5: ='総括表（例）'!B4 -> 46490 | F5: 1 | G5: / | H5: 7 | J5: 点検日 | L5: =C5 -> 46490 | O5: =F5+1 -> 2 | P5: / | Q5: =H5 -> 7 | S5: 点検日 | U5: =L5 -> 46490 | X5: =O5+1 -> 3 | Y5: / | Z5: =Q5 -> 7 | AB5: 点検日 | AD5: =U5 -> 46490 | AG5: =X5+1 -> 4 | AH5: / | AI5: =Z5 -> 7 | AK5: 点検日 | AM5: =AD5 -> 46490 | AP5: =AG5+1 -> 5 | AQ5: / | AR5: =AI5 -> 7 | AT5: 点検日 | AV5: =AM5 -> 46490 | AY5: =AP5+1 -> 6 | AZ5: / | BA5: =AR5 -> 7 | BC5: 点検日 | BE5: =AV5 -> 46490 | BH5: =AY5+1 -> 7 | BI5: / | BJ5: =BA5 -> 7
A6: 点検項目 | D6: 点検方法 | E6: チェック欄 | I6: 備 考 | J6: 点検項目 | M6: 点検方法 | N6: チェック欄 | R6: 備 考 | S6: 点検項目 | V6: 点検方法 | W6: チェック欄 | AA6: 備 考 | AB6: 点検項目 | AE6: 点検方法 | AF6: チェック欄 | AJ6: 備 考 | AK6: 点検項目 | AN6: 点検方法 | AO6: チェック欄 | AS6: 備 考 | AT6: 点検項目 | AW6: 点検方法 | AX6: チェック欄 | BB6: 備 考 | BC6: 点検項目 | BF6: 点検方法 | BG6: チェック欄 | BK6: 備 考
E7: ◎ | F7: ○ | G7: △ | H7: × | I7: ( 気づいた点を具体的に記入する ) | N7: ◎ | O7: ○ | P7: △ | Q7: × | R7: ( 気づいた点を具体的に記入する ) | W7: ◎ | X7: ○ | Y7: △ | Z7: × | AA7: ( 気づいた点を具体的に記入する ) | AF7: ◎ | AG7: ○ | AH7: △ | AI7: × | AJ7: ( 気づいた点を具体的に記入する ) | AO7: ◎ | AP7: ○ | AQ7: △ | AR7: × | AS7: ( 気づいた点を具体的に記入する ) | AX7: ◎ | AY7: ○ | AZ7: △ | BA7: × | BB7: ( 気づいた点を具体的に記入する ) | BG7: ◎ | BH7: ○ | BI7: △ | BJ7: × | BK7: ( 気づいた点を具体的に記入する )
A8: 劣化・構造部材 | B8: 各部材 | C8: 身体に触れる部分に鋭利な状態等はないか | D8: 目視・蝕診 | E8: ○ | J8: 劣化・構造部材 | K8: 各部材 | L8: 身体に触れる部分に鋭利な状態等はないか | M8: 目視・蝕診 | N8: ○ | S8: 劣化・構造部材 | T8: 各部材 | U8: 身体に触れる部分に鋭利な状態等はないか | V8: 目視・蝕診 | W8: ○ | AB8: 劣化・構造部材 | AC8: 各部材 | AD8: 身体に触れる部分に鋭利な状態等はないか | AE8: 目視・蝕診 | AF8: ○ | AK8: 劣化・構造部材 | AL8: 各部材 | AM8: 身体に触れる部分に鋭利な状態等はないか | AN8: 目視・蝕診 | AO8: ○ | AT8: 劣化・構造部材 | AU8: 各部材 | AV8: 身体に触れる部分に鋭利な状態等はないか | AW8: 目視・蝕診 | AX8: ○ | BC8: 劣化・構造部材 | BD8: 各部材 | BE8: 身体に触れる部分に鋭利な状態等はないか | BF8: 目視・蝕診 | BG8: ○ | BK8: Ｈ２７年度新規設置
C9: 腐食がないか | D9: 目視・蝕診 | E9: ○ | L9: 腐食がないか | M9: 目視・蝕診 | N9: ○ | U9: 腐食がないか | V9: 目視・蝕診 | W9: ○ | AD9: 腐食がないか | AE9: 目視・蝕診 | AF9: ○ | AM9: 腐食がないか | AN9: 目視・蝕診 | AO9: ○ | AV9: 腐食がないか | AW9: 目視・蝕診 | AX9: ○ | BE9: 腐食がないか | BF9: 目視・蝕診 | BG9: ○
C10: 亀裂、劣化はないか | D10: 目視・打診 | E10: ○ | L10: 亀裂、劣化はないか | M10: 目視・打診 | N10: ○ | U10: 亀裂、劣化はないか | V10: 目視・打診 | W10: ○ | AD10: 亀裂、劣化はないか | AE10: 目視・打診 | AF10: ○ | AM10: 亀裂、劣化はないか | AN10: 目視・打診 | AO10: ○ | AV10: 亀裂、劣化はないか | AW10: 目視・打診 | AY10: ○ | BB10: パイプが曲がっている | BE10: 亀裂、劣化はないか | BF10: 目視・打診 | BG10: ○
C11: ぐらつきはないか | D11: 蝕診 | E11: ○ | L11: ぐらつきはないか | M11: 蝕診 | N11: ○ | U11: ぐらつきはないか | V11: 蝕診 | W11: ○ | AD11: ぐらつきはないか | AE11: 蝕診 | AF11: ○ | AM11: ぐらつきはないか | AN11: 蝕診 | AO11: ○ | AV11: ぐらつきはないか | AW11: 蝕診 | AX11: ○ | BE11: ぐらつきはないか | BF11: 蝕診 | BG11: ○
B12: 基礎部 | C12: 設置面へ基礎が露出していないか | D12: 目視 | E12: ○ | K12: 基礎部 | L12: 設置面へ基礎が露出していないか | M12: 目視 | N12: ○ | T12: 基礎部 | U12: 設置面へ基礎が露出していないか | V12: 目視 | W12: ○ | AC12: 基礎部 | AD12: 設置面へ基礎が露出していないか | AE12: 目視 | AF12: ○ | AL12: 基礎部 | AM12: 設置面へ基礎が露出していないか | AN12: 目視 | AO12: ○ | AU12: 基礎部 | AV12: 設置面へ基礎が露出していないか | AW12: 目視 | AX12: ○ | BD12: 基礎部 | BE12: 設置面へ基礎が露出していないか | BF12: 目視 | BG12: ○
C13: ぐらつきはないか | D13: 蝕診 | E13: ○ | L13: ぐらつきはないか | M13: 蝕診 | N13: ○ | U13: ぐらつきはないか | V13: 蝕診 | W13: ○ | AD13: ぐらつきはないか | AE13: 蝕診 | AF13: ○ | AM13: ぐらつきはないか | AN13: 蝕診 | AO13: ○ | AV13: ぐらつきはないか | AW13: 蝕診 | AX13: ○ | BE13: ぐらつきはないか | BF13: 蝕診 | BG13: ○
B14: 着地面・周辺 | C14: 着地面や遊具周辺に大きな凹凸や石などはないか | D14: 目視 | F14: ○ | I14: 滑走面降り口の下がほれている | K14: 着地面・周辺 | L14: 着地面や遊具周辺に大きな凹凸や石などはないか | M14: 目視 | O14: ○ | R14: 下がほれている | T14: 着地面・周辺 | U14: 着地面や遊具周辺に大きな凹凸や石などはないか | V14: 目視 | X14: ○ | AA14: 下がほれている | AC14: 着地面・周辺 | AD14: 着地面や遊具周辺に大きな凹凸や石などはないか | AE14: 目視 | AF14: ○ | AL14: 着地面・周辺 | AM14: 着地面や遊具周辺に大きな凹凸や石などはないか | AN14: 目視 | AO14: ○ | AU14: 着地面・周辺 | AV14: 着地面や遊具周辺に大きな凹凸や石などはないか | AW14: 目視 | AX14: ○ | BD14: 着地面・周辺 | BE14: 着地面や遊具周辺に大きな凹凸や石などはないか | BF14: 目視 | BG14: ○
B15: 接合部 継手金具 | C15: ボルトの緩みや欠落はないか | D15: 蝕診・打診 | E15: ○ | K15: 接合部 継手金具 | L15: ボルトの緩みや欠落はないか | M15: 蝕診・打診 | N15: ○ | T15: 接合部 継手金具 | U15: ボルトの緩みや欠落はないか | V15: 蝕診・打診 | W15: ○ | AC15: 接合部 継手金具 | AD15: ボルトの緩みや欠落はないか | AE15: 蝕診・打診 | AF15: ○ | AL15: 接合部 継手金具 | AM15: ボルトの緩みや欠落はないか | AN15: 蝕診・打診 | AO15: ○ | AU15: 接合部 継手金具 | AV15: ボルトの緩みや欠落はないか | AW15: 蝕診・打診 | AX15: ○ | BD15: 接合部 継手金具 | BE15: ボルトの緩みや欠落はないか | BF15: 蝕診・打診 | BG15: ○
C16: 破損・割れはないか | D16: 目視・蝕診 | E16: ○ | L16: 破損・割れはないか | M16: 目視・蝕診 | N16: ○ | U16: 破損・割れはないか | V16: 目視・蝕診 | W16: ○ | AD16: 破損・割れはないか | AE16: 目視・蝕診 | AF16: ○ | AM16: 破損・割れはないか | AN16: 目視・蝕診 | AO16: ○ | AV16: 破損・割れはないか | AW16: 目視・蝕診 | AX16: ○ | BE16: 破損・割れはないか | BF16: 目視・蝕診 | BG16: ○
C17: 溶接部分の劣化はないか | D17: 目視・蝕診 | E17: ○ | L17: 溶接部分の劣化はないか | M17: 目視・蝕診 | N17: ○ | U17: 溶接部分の劣化はないか | V17: 目視・蝕診 | W17: ○ | AD17: 溶接部分の劣化はないか | AE17: 目視・蝕診 | AF17: ○ | AM17: 溶接部分の劣化はないか | AN17: 目視・蝕診 | AO17: ○ | AV17: 溶接部分の劣化はないか | AW17: 目視・蝕診 | AX17: ○ | BE17: 溶接部分の劣化はないか | BF17: 目視・蝕診 | BG17: ○
B18: 塗装・メッキ | C18: 著しい塗装剥離や退色、錆びの発生等はないか | D18: 目視・蝕診 | F18: ○ | I18: 塗装がはがれている | K18: 塗装・メッキ | L18: 著しい塗装剥離や退色、錆びの発生等はないか | M18: 目視・蝕診 | O18: ○ | R18: 塗装がはがれている | T18: 塗装・メッキ | U18: 著しい塗装剥離や退色、錆びの発生等はないか | V18: 目視・蝕診 | X18: ○ | AA18: 塗装がはがれている | AC18: 塗装・メッキ | AD18: 著しい塗装剥離や退色、錆びの発生等はないか | AE18: 目視・蝕診 | AF18: ○ | AL18: 塗装・メッキ | AM18: 著しい塗装剥離や退色、錆びの発生等はないか | AN18: 目視・蝕診 | AO18: ○ | AU18: 塗装・メッキ | AV18: 著しい塗装剥離や退色、錆びの発生等はないか | AW18: 目視・蝕診 | AY18: ○ | BB18: 塗装が剥がれている | BD18: 塗装・メッキ | BE18: 著しい塗装剥離や退色、錆びの発生等はないか | BF18: 目視・蝕診 | BG18: ○
B19: 汚れ・異物 | C19: 著しい汚れや落書き、異物等はないか | D19: 目視 | E19: ○ | K19: 汚れ・異物 | L19: 著しい汚れや落書き、異物等はないか | M19: 目視 | N19: ○ | T19: 汚れ・異物 | U19: 著しい汚れや落書き、異物等はないか | V19: 目視 | W19: ○ | AC19: 汚れ・異物 | AD19: 著しい汚れや落書き、異物等はないか | AE19: 目視 | AF19: ○ | AL19: 汚れ・異物 | AM19: 著しい汚れや落書き、異物等はないか | AN19: 目視 | AO19: ○ | AU19: 汚れ・異物 | AV19: 著しい汚れや落書き、異物等はないか | AW19: 目視 | AX19: ○ | BD19: 汚れ・異物 | BE19: 著しい汚れや落書き、異物等はないか | BF19: 目視 | BG19: ○
A20: 劣化・消耗部材 | B20: 着座部 | C20: 破損や変形はないか | D20: 目視・蝕診 | E20: - | J20: 劣化・消耗部材 | K20: 着座部 | L20: 破損や変形はないか | M20: 目視・蝕診 | N20: ○ | S20: 劣化・消耗部材 | T20: 着座部 | U20: 破損や変形はないか | V20: 目視・蝕診 | W20: ○ | AB20: 劣化・消耗部材 | AC20: 着座部 | AD20: 破損や変形はないか | AE20: 目視・蝕診 | AF20: - | AK20: 劣化・消耗部材 | AL20: 着座部 | AM20: 破損や変形はないか | AN20: 目視・蝕診 | AO20: - | AT20: 劣化・消耗部材 | AU20: 着座部 | AV20: 破損や変形はないか | AW20: 目視・蝕診 | AX20: - | BC20: 劣化・消耗部材 | BD20: 着座部 | BE20: 破損や変形はないか | BF20: 目視・蝕診 | BG20: -
C21: 着座側金具は磨耗していないか | D21: 目視・蝕診 | E21: - | L21: 着座側金具は磨耗していないか | M21: 目視・蝕診 | N21: ○ | U21: 着座側金具は磨耗していないか | V21: 目視・蝕診 | W21: ○ | AD21: 着座側金具は磨耗していないか | AE21: 目視・蝕診 | AF21: - | AM21: 着座側金具は磨耗していないか | AN21: 目視・蝕診 | AO21: - | AV21: 着座側金具は磨耗していないか | AW21: 目視・蝕診 | AX21: - | BE21: 着座側金具は磨耗していないか | BF21: 目視・蝕診 | BG21: -
B22: 各部材 ( 鉄 ) | C22: 腐食がないか | D22: 目視・蝕診 | E22: ○ | K22: 各部材 ( 鉄 ) | L22: 腐食がないか | M22: 目視・蝕診 | N22: ○ | T22: 各部材 ( 鉄 ) | U22: 腐食がないか | V22: 目視・蝕診 | W22: ○ | AC22: 各部材 ( 鉄 ) | AD22: 腐食がないか | AE22: 目視・蝕診 | AF22: ○ | AL22: 各部材 ( 鉄 ) | AM22: 腐食がないか | AN22: 目視・蝕診 | AO22: ○ | AU22: 各部材 ( 鉄 ) | AV22: 腐食がないか | AW22: 目視・蝕診 | AX22: ○ | BD22: 各部材 ( 鉄 ) | BE22: 腐食がないか | BF22: 目視・蝕診 | BG22: ○
C23: ぐらつきはないか | D23: 蝕診 | E23: ○ | L23: ぐらつきはないか | M23: 蝕診 | N23: ○ | U23: ぐらつきはないか | V23: 蝕診 | W23: ○ | AD23: ぐらつきはないか | AE23: 蝕診 | AF23: ○ | AM23: ぐらつきはないか | AN23: 蝕診 | AO23: ○ | AV23: ぐらつきはないか | AW23: 蝕診 | AX23: ○ | BE23: ぐらつきはないか | BF23: 蝕診 | BG23: ○
C24: 破損・割れはないか | D24: 目視・蝕診 | E24: ○ | L24: 破損・割れはないか | M24: 目視・蝕診 | N24: ○ | U24: 破損・割れはないか | V24: 目視・蝕診 | W24: ○ | AD24: 破損・割れはないか | AE24: 目視・蝕診 | AF24: ○ | AM24: 破損・割れはないか | AN24: 目視・蝕診 | AO24: ○ | AV24: 破損・割れはないか | AW24: 目視・蝕診 | AX24: ○ | BE24: 破損・割れはないか | BF24: 目視・蝕診 | BG24: ○
B25: 各部材 ( 木 ) | C25: 腐食がないか | D25: 目視・蝕診 | E25: - | K25: 各部材 ( 木 ) | L25: 腐食がないか | M25: 目視・蝕診 | N25: - | T25: 各部材 ( 木 ) | U25: 腐食がないか | V25: 目視・蝕診 | W25: - | AC25: 各部材 ( 木 ) | AD25: 腐食がないか | AE25: 目視・蝕診 | AF25: - | AL25: 各部材 ( 木 ) | AM25: 腐食がないか | AN25: 目視・蝕診 | AO25: - | AU25: 各部材 ( 木 ) | AV25: 腐食がないか | AW25: 目視・蝕診 | AX25: - | BD25: 各部材 ( 木 ) | BE25: 腐食がないか | BF25: 目視・蝕診 | BG25: -
C26: ぐらつきはないか | D26: 蝕診 | E26: - | L26: ぐらつきはないか | M26: 蝕診 | N26: - | U26: ぐらつきはないか | V26: 蝕診 | W26: - | AD26: ぐらつきはないか | AE26: 蝕診 | AF26: - | AM26: ぐらつきはないか | AN26: 蝕診 | AO26: - | AV26: ぐらつきはないか | AW26: 蝕診 | AX26: - | BE26: ぐらつきはないか | BF26: 蝕診 | BG26: -
C27: 破損・割れはないか | D27: 目視・蝕診 | E27: - | L27: 破損・割れはないか | M27: 目視・蝕診 | N27: - | U27: 破損・割れはないか | V27: 目視・蝕診 | W27: - | AD27: 破損・割れはないか | AE27: 目視・蝕診 | AF27: - | AM27: 破損・割れはないか | AN27: 目視・蝕診 | AO27: - | AV27: 破損・割れはないか | AW27: 目視・蝕診 | AX27: - | BE27: 破損・割れはないか | BF27: 目視・蝕診 | BG27: -
B28: 各部材 ロープ ワイヤー チェーン | C28: 腐食がないか | D28: 目視・蝕診 | E28: - | K28: 各部材 ロープ ワイヤー チェーン | L28: 腐食がないか | M28: 目視・蝕診 | N28: ○ | T28: 各部材 ロープ ワイヤー チェーン | U28: 腐食がないか | V28: 目視・蝕診 | W28: ○ | AC28: 各部材 ロープ ワイヤー チェーン | AD28: 腐食がないか | AE28: 目視・蝕診 | AF28: - | AL28: 各部材 ロープ ワイヤー チェーン | AM28: 腐食がないか | AN28: 目視・蝕診 | AO28: - | AU28: 各部材 ロープ ワイヤー チェーン | AV28: 腐食がないか | AW28: 目視・蝕診 | AX28: - | BD28: 各部材 ロープ ワイヤー チェーン | BE28: 腐食がないか | BF28: 目視・蝕診 | BG28: -
C29: ぐらつきはないか | D29: 蝕診 | E29: - | L29: ぐらつきはないか | M29: 蝕診 | N29: ○ | U29: ぐらつきはないか | V29: 蝕診 | W29: ○ | AD29: ぐらつきはないか | AE29: 蝕診 | AF29: - | AM29: ぐらつきはないか | AN29: 蝕診 | AO29: - | AV29: ぐらつきはないか | AW29: 蝕診 | AX29: - | BE29: ぐらつきはないか | BF29: 蝕診 | BG29: -
C30: 破損・割れはないか | D30: 目視・蝕診 | E30: - | L30: 破損・割れはないか | M30: 目視・蝕診 | N30: ○ | U30: 破損・割れはないか | V30: 目視・蝕診 | W30: ○ | AD30: 破損・割れはないか | AE30: 目視・蝕診 | AF30: - | AM30: 破損・割れはないか | AN30: 目視・蝕診 | AO30: - | AV30: 破損・割れはないか | AW30: 目視・蝕診 | AX30: - | BE30: 破損・割れはないか | BF30: 目視・蝕診 | BG30: -
A32: 点検項目 | D32: 点検方法 | E32: 安全領域確保 | I32: 備 考 | J32: 点検項目 | M32: 点検方法 | N32: 安全領域確保 | R32: 備 考 | S32: 点検項目 | V32: 点検方法 | W32: 安全領域確保 | AA32: 備 考 | AB32: 点検項目 | AE32: 点検方法 | AF32: 安全領域確保 | AJ32: 備 考 | AK32: 点検項目 | AN32: 点検方法 | AO32: 安全領域確保 | AS32: 備 考 | AT32: 点検項目 | AW32: 点検方法 | AX32: 安全領域確保 | BB32: 備 考 | BC32: 点検項目 | BF32: 点検方法 | BG32: 安全領域確保 | BK32: 備 考
E33: 済み | G33: 未処理 | I33: ( 気づいた点を具体的に記入する ) | N33: 済み | P33: 未処理 | R33: ( 気づいた点を具体的に記入する ) | W33: 済み | Y33: 未処理 | AA33: ( 気づいた点を具体的に記入する ) | AF33: 済み | AH33: 未処理 | AJ33: ( 気づいた点を具体的に記入する ) | AO33: 済み | AQ33: 未処理 | AS33: ( 気づいた点を具体的に記入する ) | AX33: 済み | AZ33: 未処理 | BB33: ( 気づいた点を具体的に記入する ) | BG33: 済み | BI33: 未処理 | BK33: ( 気づいた点を具体的に記入する )
A34: 安全領域 | B34: 全方向 | D34: メジャー | E34: ○ | J34: 安全領域 | K34: 全方向 | M34: メジャー | P34: ○ | S34: 安全領域 | T34: 全方向 | V34: メジャー | W34: ○ | AB34: 安全領域 | AC34: 全方向 | AE34: メジャー | AF34: ○ | AK34: 安全領域 | AL34: 全方向 | AN34: メジャー | AO34: ○ | AT34: 安全領域 | AU34: 全方向 | AW34: メジャー | AX34: ○ | BC34: 安全領域 | BD34: 全方向 | BF34: メジャー | BG34: ○
B35: 上部空間 | D35: メジャー | E35: ○ | K35: 上部空間 | M35: メジャー | N35: ○ | T35: 上部空間 | V35: メジャー | W35: ○ | AC35: 上部空間 | AE35: メジャー | AF35: ○ | AL35: 上部空間 | AN35: メジャー | AO35: ○ | AU35: 上部空間 | AW35: メジャー | AX35: ○ | BD35: 上部空間 | BF35: メジャー | BG35: ○
B36: コンクリート・アスファルトなどの固い接地面でない | D36: 目視 | E36: ○ | K36: コンクリート・アスファルトなどの固い接地面でない | M36: 目視 | N36: ○ | T36: コンクリート・アスファルトなどの固い接地面でない | V36: 目視 | W36: ○ | AC36: コンクリート・アスファルトなどの固い接地面でない | AE36: 目視 | AF36: ○ | AL36: コンクリート・アスファルトなどの固い接地面でない | AN36: 目視 | AO36: ○ | AU36: コンクリート・アスファルトなどの固い接地面でない | AW36: 目視 | AX36: ○ | BD36: コンクリート・アスファルトなどの固い接地面でない | BF36: 目視 | BG36: ○
B37: くぼみ、石ころなどの障害物が無いこと | D37: 目視 | E37: ○ | K37: くぼみ、石ころなどの障害物が無いこと | M37: 目視 | N37: ○ | T37: くぼみ、石ころなどの障害物が無いこと | V37: 目視 | W37: ○ | AC37: くぼみ、石ころなどの障害物が無いこと | AE37: 目視 | AF37: ○ | AL37: くぼみ、石ころなどの障害物が無いこと | AN37: 目視 | AO37: ○ | AU37: くぼみ、石ころなどの障害物が無いこと | AW37: 目視 | AX37: ○ | BD37: くぼみ、石ころなどの障害物が無いこと | BF37: 目視 | BG37: ○
A38: 特記事項（利用時の状況、人気度等） | J38: 特記事項（利用時の状況、人気度等） | S38: 特記事項（利用時の状況、人気度等） | AB38: 特記事項（利用時の状況、人気度等） | AK38: 特記事項（利用時の状況、人気度等） | AT38: 特記事項（利用時の状況、人気度等） | BC38: 特記事項（利用時の状況、人気度等）
